BEGIN:VCALENDAR
VERSION:2.0
PRODID:-//Plone.org//NONSGML plone.app.event//EN
X-WR-TIMEZONE:Europe/Rome
BEGIN:VEVENT
SUMMARY:40 anni di Sociologia urbana e rurale:  un laboratorio permanente 
 della disciplina.  Giornata di studi in onore di Angelo Detragiache e Paol
 o Guidicini 
DTSTART;TZID=Europe/Rome;VALUE=DATE-TIME:20180928T100000
DTEND;TZID=Europe/Rome;VALUE=DATE-TIME:20180928T170000
DTSTAMP;VALUE=DATE-TIME:20260422T221639Z
UID:5b352e461c3942f2b99245c12f64de63@sde.unibo.it
CREATED;VALUE=DATE-TIME:20180912T082924Z
LAST-MODIFIED;VALUE=DATE-TIME:20180924T102716Z
URL:https://sde.unibo.it/it/eventi/40-anni-di-sociologia-urbana-e-rurale-u
 n-laboratorio-permanente-della-disciplina.-giornata-di-studi-in-onore-di-a
 ngelo-detragiache-e-paolo-guidicini
END:VEVENT
BEGIN:VTIMEZONE
TZID:Europe/Rome
X-LIC-LOCATION:Europe/Rome
BEGIN:DAYLIGHT
DTSTART;VALUE=DATE-TIME:20180325T030000
TZNAME:CEST
TZOFFSETFROM:+0100
TZOFFSETTO:+0200
END:DAYLIGHT
END:VTIMEZONE
END:VCALENDAR
