BEGIN:VCALENDAR
VERSION:2.0
PRODID:-//Plone.org//NONSGML plone.app.event//EN
X-WR-TIMEZONE:Europe/Rome
BEGIN:VEVENT
SUMMARY:“Bonding beyond boundaries” (legami oltre i confini)
DTSTART;TZID=Europe/Rome;VALUE=DATE-TIME:20230828T100000
DTEND;TZID=Europe/Rome;VALUE=DATE-TIME:20230828T180000
DTSTAMP;VALUE=DATE-TIME:20260419T145357Z
UID:75c98d358efa43aa9a9919fb92caf34e@sde.unibo.it
CREATED;VALUE=DATE-TIME:20230302T141000Z
LAST-MODIFIED;VALUE=DATE-TIME:20230607T100840Z
URL:https://sde.unibo.it/it/eventi/201cbonding-beyond-boundaries201d-legam
 i-oltre-i-confini
END:VEVENT
BEGIN:VTIMEZONE
TZID:Europe/Rome
X-LIC-LOCATION:Europe/Rome
BEGIN:DAYLIGHT
DTSTART;VALUE=DATE-TIME:20230326T030000
TZNAME:CEST
TZOFFSETFROM:+0100
TZOFFSETTO:+0200
END:DAYLIGHT
END:VTIMEZONE
END:VCALENDAR
