BEGIN:VCALENDAR
VERSION:2.0
PRODID:-//Plone.org//NONSGML plone.app.event//EN
X-WR-TIMEZONE:Europe/Rome
BEGIN:VEVENT
SUMMARY:20 febbraio Career Day
DTSTART;VALUE=DATE:20180220
DTEND;VALUE=DATE:20180221
DTSTAMP;VALUE=DATE-TIME:20260424T070958Z
UID:6242c7ceab2c482abd29da8d3d8c863b@sde.unibo.it
CREATED;VALUE=DATE-TIME:20180111T111020Z
DESCRIPTION:Iscriviti online\, conosci le aziende e lascia il tuo CV 
LAST-MODIFIED;VALUE=DATE-TIME:20180111T111043Z
URL:https://sde.unibo.it/it/eventi/20-febbraio-career-day
END:VEVENT
END:VCALENDAR
