BEGIN:VCALENDAR
VERSION:2.0
PRODID:-//Plone.org//NONSGML plone.app.event//EN
X-WR-TIMEZONE:Europe/Rome
BEGIN:VEVENT
SUMMARY:19 Feb - "Who Knows: Medical Expertise in the Internet Age"\, Lect
 ure by Kristin Barker\, University of New Mexico\, USA 
DTSTART;TZID=Europe/Rome;VALUE=DATE-TIME:20190219T173000
DTEND;TZID=Europe/Rome;VALUE=DATE-TIME:20190219T193000
DTSTAMP;VALUE=DATE-TIME:20260423T143347Z
UID:40d5cee5342445a0ae158289ccaab612@sde.unibo.it
CREATED;VALUE=DATE-TIME:20190212T100348Z
DESCRIPTION:The visit of Kristin Barker is organised in collaboration with
  Antonio F. Maturo from the Department of Sociology and Business Law.
LAST-MODIFIED;VALUE=DATE-TIME:20190212T101054Z
URL:https://sde.unibo.it/it/eventi/19-feb-who-knows-medical-expertise-in-t
 he-internet-age-lecture-by-kristin-barker-university-of-new-mexico-usa
END:VEVENT
BEGIN:VTIMEZONE
TZID:Europe/Rome
X-LIC-LOCATION:Europe/Rome
BEGIN:STANDARD
DTSTART;VALUE=DATE-TIME:20181028T020000
TZNAME:CET
TZOFFSETFROM:+0200
TZOFFSETTO:+0100
END:STANDARD
END:VTIMEZONE
END:VCALENDAR
