BEGIN:VCALENDAR
VERSION:2.0
PRODID:-//Plone.org//NONSGML plone.app.event//EN
X-WR-TIMEZONE:Europe/Rome
BEGIN:VEVENT
SUMMARY:17 May seminars Forlì
DTSTART;TZID=Europe/Rome;VALUE=DATE-TIME:20190517T090000
DTEND;TZID=Europe/Rome;VALUE=DATE-TIME:20190517T150000
DTSTAMP;VALUE=DATE-TIME:20260423T164342Z
UID:13440bec85bd4ebf95a7e2709b67126b@sde.unibo.it
CREATED;VALUE=DATE-TIME:20190506T113602Z
LAST-MODIFIED;VALUE=DATE-TIME:20190506T113642Z
URL:https://sde.unibo.it/it/eventi/17-may-seminars-forli
END:VEVENT
BEGIN:VTIMEZONE
TZID:Europe/Rome
X-LIC-LOCATION:Europe/Rome
BEGIN:DAYLIGHT
DTSTART;VALUE=DATE-TIME:20190331T030000
TZNAME:CEST
TZOFFSETFROM:+0100
TZOFFSETTO:+0200
END:DAYLIGHT
END:VTIMEZONE
END:VCALENDAR
