BEGIN:VCALENDAR
VERSION:2.0
PRODID:-//Plone.org//NONSGML plone.app.event//EN
X-WR-TIMEZONE:Europe/Rome
BEGIN:VEVENT
SUMMARY:Presentazione del Volume "Lavoro sociale e migrazioni. Il ruolo de
 lle reti dei servizi"
DTSTART;TZID=Europe/Rome;VALUE=DATE-TIME:20190530T150000
DTEND;TZID=Europe/Rome;VALUE=DATE-TIME:20190530T170000
DTSTAMP;VALUE=DATE-TIME:20260423T150814Z
UID:b8bf7d2c4d2c4da6802122d5a3c0e701@sde.unibo.it
CREATED;VALUE=DATE-TIME:20190521T085856Z
LAST-MODIFIED;VALUE=DATE-TIME:20190521T091102Z
URL:https://sde.unibo.it/en/events/presentazione-del-volume-lavoro-sociale
 -e-migrazioni.-il-ruolo-delle-reti-dei-servizi
END:VEVENT
BEGIN:VTIMEZONE
TZID:Europe/Rome
X-LIC-LOCATION:Europe/Rome
BEGIN:DAYLIGHT
DTSTART;VALUE=DATE-TIME:20190331T030000
TZNAME:CEST
TZOFFSETFROM:+0100
TZOFFSETTO:+0200
END:DAYLIGHT
END:VTIMEZONE
END:VCALENDAR
