BEGIN:VCALENDAR
VERSION:2.0
PRODID:-//Plone.org//NONSGML plone.app.event//EN
X-WR-TIMEZONE:Europe/Rome
BEGIN:VEVENT
SUMMARY:Open Day 2018
DTSTART;VALUE=DATE:20180221
DTEND;VALUE=DATE:20180224
DTSTAMP;VALUE=DATE-TIME:20260424T144449Z
UID:b3e5143a199f499c97c49d102bd926b2@sde.unibo.it
CREATED;VALUE=DATE-TIME:20180212T092346Z
LAST-MODIFIED;VALUE=DATE-TIME:20180212T092549Z
URL:https://sde.unibo.it/en/events/open-days-2018
END:VEVENT
END:VCALENDAR
