BEGIN:VCALENDAR
VERSION:2.0
PRODID:-//Plone.org//NONSGML plone.app.event//EN
X-WR-TIMEZONE:Europe/Rome
BEGIN:VEVENT
SUMMARY:MEETUP - INTRAPRENDERE CON L'AFRICA
DTSTART;TZID=Europe/Rome;VALUE=DATE-TIME:20191120T190000
DTEND;TZID=Europe/Rome;VALUE=DATE-TIME:20191120T210000
DTSTAMP;VALUE=DATE-TIME:20260424T174513Z
UID:526271f8edcc4906a0d4f7d30805e9b2@sde.unibo.it
CREATED;VALUE=DATE-TIME:20191030T150234Z
LAST-MODIFIED;VALUE=DATE-TIME:20191030T150606Z
URL:https://sde.unibo.it/en/events/meetup-intraprendere-con-lafrica
END:VEVENT
BEGIN:VTIMEZONE
TZID:Europe/Rome
X-LIC-LOCATION:Europe/Rome
BEGIN:STANDARD
DTSTART;VALUE=DATE-TIME:20191027T020000
TZNAME:CET
TZOFFSETFROM:+0200
TZOFFSETTO:+0100
END:STANDARD
END:VTIMEZONE
END:VCALENDAR
