BEGIN:VCALENDAR
VERSION:2.0
PRODID:-//Plone.org//NONSGML plone.app.event//EN
X-WR-TIMEZONE:Europe/Rome
BEGIN:VEVENT
SUMMARY:20 May seminar Forlì
DTSTART;TZID=Europe/Rome;VALUE=DATE-TIME:20190520T100000
DTEND;TZID=Europe/Rome;VALUE=DATE-TIME:20190520T130000
DTSTAMP;VALUE=DATE-TIME:20260423T145236Z
UID:84cbe99c1a1e48cd9a63ad9ed133ff80@sde.unibo.it
CREATED;VALUE=DATE-TIME:20190506T113602Z
LAST-MODIFIED;VALUE=DATE-TIME:20190506T115247Z
URL:https://sde.unibo.it/en/events/copy_of_17-may-seminars-forli
END:VEVENT
BEGIN:VTIMEZONE
TZID:Europe/Rome
X-LIC-LOCATION:Europe/Rome
BEGIN:DAYLIGHT
DTSTART;VALUE=DATE-TIME:20190331T030000
TZNAME:CEST
TZOFFSETFROM:+0100
TZOFFSETTO:+0200
END:DAYLIGHT
END:VTIMEZONE
END:VCALENDAR
