BEGIN:VCALENDAR
VERSION:2.0
PRODID:-//Plone.org//NONSGML plone.app.event//EN
X-WR-TIMEZONE:Europe/Rome
BEGIN:VEVENT
SUMMARY:A World in Transition. In-between Performative Arts and Migration
DTSTART;VALUE=DATE:20190307
DTEND;VALUE=DATE:20190308
DTSTAMP;VALUE=DATE-TIME:20260422T152718Z
UID:f1f976da89584ff9b90cd6589bc99c79@sde.unibo.it
CREATED;VALUE=DATE-TIME:20181115T121727Z
DESCRIPTION:Call for Proposals for academics and artists to participate in
  the international conference: A World in Transition. In-between Performat
 ive Arts and Migration\,\nBologna  March 7th\, 2019
LAST-MODIFIED;VALUE=DATE-TIME:20181115T121902Z
URL:https://sde.unibo.it/en/events/a-world-in-transition.-in-between-perfo
 rmative-arts-and-migration
END:VEVENT
END:VCALENDAR
