BEGIN:VCALENDAR
VERSION:2.0
PRODID:-//Plone.org//NONSGML plone.app.event//EN
X-WR-TIMEZONE:Europe/Rome
BEGIN:VEVENT
SUMMARY:“Parlate\, se potete! Che cosa siete?” Un tentativo di classif
 icazione di token e ICOs
DTSTART;TZID=Europe/Rome;VALUE=DATE-TIME:20190528T110000
DTEND;TZID=Europe/Rome;VALUE=DATE-TIME:20190528T140000
DTSTAMP;VALUE=DATE-TIME:20260423T123945Z
UID:cd3747b1c92644b1be9db5b10f0e2010@sde.unibo.it
CREATED;VALUE=DATE-TIME:20190522T085350Z
DESCRIPTION:una lezione del Professor Annunziata su token e ICOs 
LAST-MODIFIED;VALUE=DATE-TIME:20190522T085618Z
URL:https://sde.unibo.it/en/events/201cparlate-se-potete-che-cosa-siete-20
 1d-un-tentativo-di-classificazione-di-token-e-icos
END:VEVENT
BEGIN:VTIMEZONE
TZID:Europe/Rome
X-LIC-LOCATION:Europe/Rome
BEGIN:DAYLIGHT
DTSTART;VALUE=DATE-TIME:20190331T030000
TZNAME:CEST
TZOFFSETFROM:+0100
TZOFFSETTO:+0200
END:DAYLIGHT
END:VTIMEZONE
END:VCALENDAR
